BEGIN:VCALENDAR
VERSION:2.0
PRODID:-//KC Council 4902 - ECPv6.15.20//NONSGML v1.0//EN
CALSCALE:GREGORIAN
METHOD:PUBLISH
X-WR-CALNAME:KC Council 4902
X-ORIGINAL-URL:https://kofc4902.org
X-WR-CALDESC:Events for KC Council 4902
REFRESH-INTERVAL;VALUE=DURATION:PT1H
X-Robots-Tag:noindex
X-PUBLISHED-TTL:PT1H
BEGIN:VTIMEZONE
TZID:UTC
BEGIN:STANDARD
TZOFFSETFROM:+0000
TZOFFSETTO:+0000
TZNAME:UTC
DTSTART:20230101T000000
END:STANDARD
END:VTIMEZONE
BEGIN:VEVENT
DTSTART;TZID=UTC:20240330T200000
DTEND;TZID=UTC:20240330T213000
DTSTAMP:20260422T200639
CREATED:20240326T151421Z
LAST-MODIFIED:20240326T151421Z
UID:2441-1711828800-1711834200@kofc4902.org
SUMMARY:Easter Vigil - Christ is Risen\, Christ is Truly Risen
DESCRIPTION:
URL:https://kofc4902.org/event/easter-vigil-christ-is-risen-christ-is-truly-risen/
END:VEVENT
END:VCALENDAR