BEGIN:VCALENDAR
VERSION:2.0
PRODID:-//KC Council 4902 - ECPv6.15.20//NONSGML v1.0//EN
CALSCALE:GREGORIAN
METHOD:PUBLISH
X-WR-CALNAME:KC Council 4902
X-ORIGINAL-URL:https://kofc4902.org
X-WR-CALDESC:Events for KC Council 4902
REFRESH-INTERVAL;VALUE=DURATION:PT1H
X-Robots-Tag:noindex
X-PUBLISHED-TTL:PT1H
BEGIN:VTIMEZONE
TZID:UTC
BEGIN:STANDARD
TZOFFSETFROM:+0000
TZOFFSETTO:+0000
TZNAME:UTC
DTSTART:20230101T000000
END:STANDARD
END:VTIMEZONE
BEGIN:VEVENT
DTSTART;TZID=UTC:20240418T080000
DTEND;TZID=UTC:20240421T123000
DTSTAMP:20260422T184348
CREATED:20240326T145924Z
LAST-MODIFIED:20240326T145924Z
UID:2421-1713427200-1713702600@kofc4902.org
SUMMARY:Tootsie Roll Drive
DESCRIPTION:
URL:https://kofc4902.org/event/tootsie-roll-drive/
END:VEVENT
BEGIN:VEVENT
DTSTART;TZID=UTC:20240420T140000
DTEND;TZID=UTC:20240420T150000
DTSTAMP:20260422T184348
CREATED:20240326T150151Z
LAST-MODIFIED:20240326T150151Z
UID:2425-1713621600-1713625200@kofc4902.org
SUMMARY:First Communicant Missalettes
DESCRIPTION:
URL:https://kofc4902.org/event/first-communicant-missalettes/
END:VEVENT
END:VCALENDAR