BEGIN:VCALENDAR
VERSION:2.0
PRODID:-//KC Council 4902 - ECPv6.15.20//NONSGML v1.0//EN
CALSCALE:GREGORIAN
METHOD:PUBLISH
X-ORIGINAL-URL:https://kofc4902.org
X-WR-CALDESC:Events for KC Council 4902
REFRESH-INTERVAL;VALUE=DURATION:PT1H
X-Robots-Tag:noindex
X-PUBLISHED-TTL:PT1H
BEGIN:VTIMEZONE
TZID:UTC
BEGIN:STANDARD
TZOFFSETFROM:+0000
TZOFFSETTO:+0000
TZNAME:UTC
DTSTART:20230101T000000
END:STANDARD
END:VTIMEZONE
BEGIN:VEVENT
DTSTART;TZID=UTC:20240610T190000
DTEND;TZID=UTC:20240610T203000
DTSTAMP:20260422T044349
CREATED:20240326T151013Z
LAST-MODIFIED:20240326T151013Z
UID:2435-1718046000-1718051400@kofc4902.org
SUMMARY:Business Meeting - Election of Officers
DESCRIPTION:Meeting preceded by rosary at 6:30 pm.
URL:https://kofc4902.org/event/business-meeting-election-of-officers/
END:VEVENT
END:VCALENDAR