BEGIN:VCALENDAR
VERSION:2.0
PRODID:-//KC Council 4902 - ECPv6.15.20//NONSGML v1.0//EN
CALSCALE:GREGORIAN
METHOD:PUBLISH
X-WR-CALNAME:KC Council 4902
X-ORIGINAL-URL:https://kofc4902.org
X-WR-CALDESC:Events for KC Council 4902
REFRESH-INTERVAL;VALUE=DURATION:PT1H
X-Robots-Tag:noindex
X-PUBLISHED-TTL:PT1H
BEGIN:VTIMEZONE
TZID:UTC
BEGIN:STANDARD
TZOFFSETFROM:+0000
TZOFFSETTO:+0000
TZNAME:UTC
DTSTART:20230101T000000
END:STANDARD
END:VTIMEZONE
BEGIN:VEVENT
DTSTART;TZID=UTC:20240630T093000
DTEND;TZID=UTC:20240630T110000
DTSTAMP:20260420T223656
CREATED:20230710T213129Z
LAST-MODIFIED:20230710T213129Z
UID:1643-1719739800-1719745200@kofc4902.org
SUMMARY:Corporate Communion Sunday 9:30 AM Mass
DESCRIPTION:We gather as a Brotherhood to celebrate and share the Eucharist together.  Please join us in the front of the church where the pews will be reserved with your family members.   Wear your KC shirt and name badge.
URL:https://kofc4902.org/event/corporate-communion-sunday-930-am-mass/
END:VEVENT
END:VCALENDAR