BEGIN:VCALENDAR
VERSION:2.0
PRODID:-//KC Council 4902 - ECPv6.15.20//NONSGML v1.0//EN
CALSCALE:GREGORIAN
METHOD:PUBLISH
X-ORIGINAL-URL:https://kofc4902.org
X-WR-CALDESC:Events for KC Council 4902
REFRESH-INTERVAL;VALUE=DURATION:PT1H
X-Robots-Tag:noindex
X-PUBLISHED-TTL:PT1H
BEGIN:VTIMEZONE
TZID:UTC
BEGIN:STANDARD
TZOFFSETFROM:+0000
TZOFFSETTO:+0000
TZNAME:UTC
DTSTART:20230101T000000
END:STANDARD
END:VTIMEZONE
BEGIN:VEVENT
DTSTART;TZID=UTC:20241014T190000
DTEND;TZID=UTC:20241014T203000
DTSTAMP:20260420T131924
CREATED:20240710T010829Z
LAST-MODIFIED:20241015T124920Z
UID:2586-1728932400-1728937800@kofc4902.org
SUMMARY:Council Business Meeting
DESCRIPTION:Preceded by the recitation of the Rosary.
URL:https://kofc4902.org/event/council-business-meeting-5/
END:VEVENT
END:VCALENDAR