BEGIN:VCALENDAR
VERSION:2.0
PRODID:-//KC Council 4902 - ECPv6.15.20//NONSGML v1.0//EN
CALSCALE:GREGORIAN
METHOD:PUBLISH
X-WR-CALNAME:KC Council 4902
X-ORIGINAL-URL:https://kofc4902.org
X-WR-CALDESC:Events for KC Council 4902
REFRESH-INTERVAL;VALUE=DURATION:PT1H
X-Robots-Tag:noindex
X-PUBLISHED-TTL:PT1H
BEGIN:VTIMEZONE
TZID:UTC
BEGIN:STANDARD
TZOFFSETFROM:+0000
TZOFFSETTO:+0000
TZNAME:UTC
DTSTART:20230101T000000
END:STANDARD
END:VTIMEZONE
BEGIN:VEVENT
DTSTART;TZID=UTC:20241026T170000
DTEND;TZID=UTC:20241027T113000
DTSTAMP:20260420T143524
CREATED:20240802T121725Z
LAST-MODIFIED:20240802T121725Z
UID:2644-1729962000-1730028600@kofc4902.org
SUMMARY:Knights in Action - Life - Lifesavers for Life
DESCRIPTION:Distribution of Lifesavers after the 5:00 pm Saturday and 10:00 am Sunday masses.   Donations raised help support Options for Women\, River Falls.
URL:https://kofc4902.org/event/knights-in-action-life-lifesavers-for-life/
END:VEVENT
END:VCALENDAR