BEGIN:VCALENDAR
VERSION:2.0
PRODID:-//KC Council 4902 - ECPv6.15.20//NONSGML v1.0//EN
CALSCALE:GREGORIAN
METHOD:PUBLISH
X-ORIGINAL-URL:https://kofc4902.org
X-WR-CALDESC:Events for KC Council 4902
REFRESH-INTERVAL;VALUE=DURATION:PT1H
X-Robots-Tag:noindex
X-PUBLISHED-TTL:PT1H
BEGIN:VTIMEZONE
TZID:UTC
BEGIN:STANDARD
TZOFFSETFROM:+0000
TZOFFSETTO:+0000
TZNAME:UTC
DTSTART:20240101T000000
END:STANDARD
END:VTIMEZONE
BEGIN:VEVENT
DTSTART;TZID=UTC:20250520T170000
DTEND;TZID=UTC:20250520T200000
DTSTAMP:20260421T075710
CREATED:20250307T195215Z
LAST-MODIFIED:20250307T195215Z
UID:3110-1747760400-1747771200@kofc4902.org
SUMMARY:Options for Women Banquet
DESCRIPTION:Annual banquet for Options to be held at Tattersal Distillery \n5:00 pm Social \n6:00 pm Dinner and program
URL:https://kofc4902.org/event/options-for-women-banquet/
END:VEVENT
END:VCALENDAR