BEGIN:VCALENDAR
VERSION:2.0
PRODID:-//KC Council 4902 - ECPv6.15.20//NONSGML v1.0//EN
CALSCALE:GREGORIAN
METHOD:PUBLISH
X-WR-CALNAME:KC Council 4902
X-ORIGINAL-URL:https://kofc4902.org
X-WR-CALDESC:Events for KC Council 4902
REFRESH-INTERVAL;VALUE=DURATION:PT1H
X-Robots-Tag:noindex
X-PUBLISHED-TTL:PT1H
BEGIN:VTIMEZONE
TZID:UTC
BEGIN:STANDARD
TZOFFSETFROM:+0000
TZOFFSETTO:+0000
TZNAME:UTC
DTSTART:20220101T000000
END:STANDARD
END:VTIMEZONE
BEGIN:VTIMEZONE
TZID:UTC
BEGIN:STANDARD
TZOFFSETFROM:+0000
TZOFFSETTO:+0000
TZNAME:UTC
DTSTART:20220101T000000
END:STANDARD
END:VTIMEZONE
BEGIN:VEVENT
DTSTART;TZID=UTC:20230812T080000
DTEND;TZID=UTC:20230812T113000
DTSTAMP:20260420T153914
CREATED:20230701T200754Z
LAST-MODIFIED:20230701T200754Z
UID:1573-1691827200-1691839800@kofc4902.org
SUMMARY:PC Fair Food Booth Shift 1
DESCRIPTION:
URL:https://kofc4902.org/event/pc-fair-food-booth-shift-1-2/
END:VEVENT
BEGIN:VEVENT
DTSTART;TZID=UTC:20230811T183000
DTEND;TZID=UTC:20230811T220000
DTSTAMP:20260420T153914
CREATED:20230701T200709Z
LAST-MODIFIED:20230701T200709Z
UID:1571-1691778600-1691791200@kofc4902.org
SUMMARY:PC Fair Food Booth Shift 4
DESCRIPTION:
URL:https://kofc4902.org/event/pc-fair-food-booth-shift-4-2/
END:VEVENT
BEGIN:VEVENT
DTSTART;TZID=UTC:20230811T150000
DTEND;TZID=UTC:20230811T183000
DTSTAMP:20260420T153914
CREATED:20230701T200633Z
LAST-MODIFIED:20230701T200633Z
UID:1569-1691766000-1691778600@kofc4902.org
SUMMARY:PC Fair Food Booth Shift 3
DESCRIPTION:
URL:https://kofc4902.org/event/pc-fair-food-booth-shift-3/
END:VEVENT
BEGIN:VEVENT
DTSTART;TZID=UTC:20230811T113000
DTEND;TZID=UTC:20230811T150000
DTSTAMP:20260420T153914
CREATED:20230701T200529Z
LAST-MODIFIED:20230701T200529Z
UID:1567-1691753400-1691766000@kofc4902.org
SUMMARY:PC Fair Food Booth Shift 2
DESCRIPTION:
URL:https://kofc4902.org/event/pc-fair-food-booth-shift-2-2/
END:VEVENT
BEGIN:VEVENT
DTSTART;TZID=UTC:20230811T080000
DTEND;TZID=UTC:20230811T113000
DTSTAMP:20260420T153914
CREATED:20230701T200439Z
LAST-MODIFIED:20230701T200439Z
UID:1565-1691740800-1691753400@kofc4902.org
SUMMARY:PC Fair Food Booth Shift 1
DESCRIPTION:
URL:https://kofc4902.org/event/pc-fair-food-booth-shift-1/
END:VEVENT
BEGIN:VEVENT
DTSTART;TZID=UTC:20230810T183000
DTEND;TZID=UTC:20230810T220000
DTSTAMP:20260420T153914
CREATED:20230701T194618Z
LAST-MODIFIED:20230701T194618Z
UID:1540-1691692200-1691704800@kofc4902.org
SUMMARY:PC Fair Food Booth Shift 4
DESCRIPTION:
URL:https://kofc4902.org/event/pc-fair-food-booth-shift-4/
END:VEVENT
BEGIN:VEVENT
DTSTART;TZID=UTC:20230810T150000
DTEND;TZID=UTC:20230810T183000
DTSTAMP:20260420T153914
CREATED:20230701T194531Z
LAST-MODIFIED:20230701T194531Z
UID:1538-1691679600-1691692200@kofc4902.org
SUMMARY:PC Fair Food Booth Sift 3
DESCRIPTION:
URL:https://kofc4902.org/event/pc-fair-food-booth-sift-3/
END:VEVENT
BEGIN:VEVENT
DTSTART;TZID=UTC:20230810T113000
DTEND;TZID=UTC:20230810T150000
DTSTAMP:20260420T153914
CREATED:20230701T194433Z
LAST-MODIFIED:20230701T194433Z
UID:1536-1691667000-1691679600@kofc4902.org
SUMMARY:PC Fair Food Booth Shift 2
DESCRIPTION:
URL:https://kofc4902.org/event/pc-fair-food-booth-shift-2/
END:VEVENT
BEGIN:VEVENT
DTSTART;TZID=UTC:20230810T080000
DTEND;TZID=UTC:20230810T113000
DTSTAMP:20260420T153914
CREATED:20230604T014830Z
LAST-MODIFIED:20230701T194325Z
UID:808-1691654400-1691667000@kofc4902.org
SUMMARY:PC Fair Food Booth Shift 1
DESCRIPTION:
URL:https://kofc4902.org/event/pierce-county-fair-food-booth/
END:VEVENT
BEGIN:VEVENT
DTSTART;TZID=UTC:20230809T180000
DTEND;TZID=UTC:20230809T190000
DTSTAMP:20260420T153914
CREATED:20230701T200238Z
LAST-MODIFIED:20230701T200238Z
UID:1563-1691604000-1691607600@kofc4902.org
SUMMARY:Officers Meeting via Zoom
DESCRIPTION:
URL:https://kofc4902.org/event/officers-meeting-via-zoom-5/
END:VEVENT
BEGIN:VEVENT
DTSTART;TZID=UTC:20230730T110000
DTEND;TZID=UTC:20230730T120000
DTSTAMP:20260420T153914
CREATED:20230701T202214Z
LAST-MODIFIED:20230701T202214Z
UID:1589-1690714800-1690718400@kofc4902.org
SUMMARY:Corporate Communion Mass
DESCRIPTION:Please plan to join your Brother KC’s at the 11:00 am mass to celebrate the Eucharist together and in solidarity.
URL:https://kofc4902.org/event/corporate-communion-mass/
END:VEVENT
BEGIN:VEVENT
DTSTART;TZID=UTC:20230730T090000
DTEND;TZID=UTC:20230730T120000
DTSTAMP:20260420T153914
CREATED:20230709T163148Z
LAST-MODIFIED:20230709T163148Z
UID:1612-1690707600-1690718400@kofc4902.org
SUMMARY:PC Fair Signup After Mass
DESCRIPTION:
URL:https://kofc4902.org/event/pc-fair-signup-after-mass-6/
END:VEVENT
BEGIN:VEVENT
DTSTART;TZID=UTC:20230729T163000
DTEND;TZID=UTC:20230729T183000
DTSTAMP:20260420T153914
CREATED:20230709T163116Z
LAST-MODIFIED:20230709T163116Z
UID:1610-1690648200-1690655400@kofc4902.org
SUMMARY:PC Fair Signup After Mass
DESCRIPTION:
URL:https://kofc4902.org/event/pc-fair-signup-after-mass-5/
END:VEVENT
BEGIN:VEVENT
DTSTART;TZID=UTC:20230726T103000
DTEND;TZID=UTC:20230726T130000
DTSTAMP:20260420T153915
CREATED:20230709T161944Z
LAST-MODIFIED:20230709T161944Z
UID:1592-1690367400-1690376400@kofc4902.org
SUMMARY:KC Luncheon
DESCRIPTION:
URL:https://kofc4902.org/event/kc-luncheon/
END:VEVENT
BEGIN:VEVENT
DTSTART;TZID=UTC:20230725T180000
DTEND;TZID=UTC:20230725T203000
DTSTAMP:20260420T153915
CREATED:20230709T162401Z
LAST-MODIFIED:20230709T162401Z
UID:1596-1690308000-1690317000@kofc4902.org
SUMMARY:Exemplification Ceremony
DESCRIPTION:Exemplification for new members after the 5:00 pm mass
URL:https://kofc4902.org/event/exemplification-ceremony/
END:VEVENT
BEGIN:VEVENT
DTSTART;TZID=UTC:20230724T190000
DTEND;TZID=UTC:20230724T203000
DTSTAMP:20260420T153915
CREATED:20230710T115851Z
LAST-MODIFIED:20230710T115851Z
UID:1617-1690225200-1690230600@kofc4902.org
SUMMARY:Summer District Meeting - St. Joseph Church\, Amery
DESCRIPTION:
URL:https://kofc4902.org/event/summer-district-meeting-st-joseph-church-amery/
END:VEVENT
BEGIN:VEVENT
DTSTART;TZID=UTC:20230723T090000
DTEND;TZID=UTC:20230723T120000
DTSTAMP:20260420T153915
CREATED:20230709T163423Z
LAST-MODIFIED:20230709T163423Z
UID:1614-1690102800-1690113600@kofc4902.org
SUMMARY:PC Fair Signup After Mass
DESCRIPTION:
URL:https://kofc4902.org/event/pc-fair-signup-after-mass-7/
END:VEVENT
BEGIN:VEVENT
DTSTART;TZID=UTC:20230722T163000
DTEND;TZID=UTC:20230722T183000
DTSTAMP:20260420T153915
CREATED:20230709T163008Z
LAST-MODIFIED:20230709T163328Z
UID:1606-1690043400-1690050600@kofc4902.org
SUMMARY:PC Fair Signup After Mass
DESCRIPTION:
URL:https://kofc4902.org/event/pc-fair-signup-after-mass-3/
END:VEVENT
BEGIN:VEVENT
DTSTART;TZID=UTC:20230716T090000
DTEND;TZID=UTC:20230716T120000
DTSTAMP:20260420T153915
CREATED:20230709T163039Z
LAST-MODIFIED:20230709T163039Z
UID:1608-1689498000-1689508800@kofc4902.org
SUMMARY:PC Fair Signup After Mass
DESCRIPTION:
URL:https://kofc4902.org/event/pc-fair-signup-after-mass-4/
END:VEVENT
BEGIN:VEVENT
DTSTART;TZID=UTC:20230715T163000
DTEND;TZID=UTC:20230715T183000
DTSTAMP:20260420T153915
CREATED:20230709T162841Z
LAST-MODIFIED:20230709T163250Z
UID:1602-1689438600-1689445800@kofc4902.org
SUMMARY:PC Fair Signup After Mass
DESCRIPTION:
URL:https://kofc4902.org/event/pc-fair-signup-after-mass/
END:VEVENT
BEGIN:VEVENT
DTSTART;TZID=UTC:20230715T080000
DTEND;TZID=UTC:20230715T180000
DTSTAMP:20260420T153915
CREATED:20230709T162152Z
LAST-MODIFIED:20230709T162152Z
UID:1594-1689408000-1689444000@kofc4902.org
SUMMARY:Guadalupe Shrine Pilgrmage
DESCRIPTION:LaCrosse WI Day trip
URL:https://kofc4902.org/event/guadalupe-shrine-pilgrmage/
END:VEVENT
BEGIN:VEVENT
DTSTART;TZID=UTC:20230710T190000
DTEND;TZID=UTC:20230710T203000
DTSTAMP:20260420T153915
CREATED:20230604T014608Z
LAST-MODIFIED:20230701T194127Z
UID:806-1689015600-1689021000@kofc4902.org
SUMMARY:Member Meeting preceded by video on Guadalupe Shrine
DESCRIPTION:
URL:https://kofc4902.org/event/member-meeting/
END:VEVENT
BEGIN:VEVENT
DTSTART;TZID=UTC:20230706T180000
DTEND;TZID=UTC:20230706T190000
DTSTAMP:20260420T153915
CREATED:20230604T014450Z
LAST-MODIFIED:20230701T194030Z
UID:804-1688666400-1688670000@kofc4902.org
SUMMARY:Officers Meeting - via Zoom
DESCRIPTION:
URL:https://kofc4902.org/event/officers-meeting-2/
END:VEVENT
BEGIN:VEVENT
DTSTART;TZID=UTC:20230612T190000
DTEND;TZID=UTC:20230612T203000
DTSTAMP:20260420T153915
CREATED:20230501T144228Z
LAST-MODIFIED:20230501T144228Z
UID:753-1686596400-1686601800@kofc4902.org
SUMMARY:Council Meeting
DESCRIPTION:
URL:https://kofc4902.org/event/council-meeting/
END:VEVENT
BEGIN:VEVENT
DTSTART;TZID=UTC:20230612T183000
DTEND;TZID=UTC:20230612T190000
DTSTAMP:20260420T153915
CREATED:20230501T144145Z
LAST-MODIFIED:20230501T144145Z
UID:751-1686594600-1686596400@kofc4902.org
SUMMARY:Rosary
DESCRIPTION:
URL:https://kofc4902.org/event/rosary/
END:VEVENT
BEGIN:VEVENT
DTSTART;TZID=UTC:20230608T180000
DTEND;TZID=UTC:20230608T190000
DTSTAMP:20260420T153915
CREATED:20230501T143942Z
LAST-MODIFIED:20230501T143942Z
UID:748-1686247200-1686250800@kofc4902.org
SUMMARY:Officers Meeting
DESCRIPTION:
URL:https://kofc4902.org/event/officers-meeting/
END:VEVENT
BEGIN:VEVENT
DTSTART;TZID=UTC:20230509T183000
DTEND;TZID=UTC:20230509T203000
DTSTAMP:20260420T153915
CREATED:20230420T145110Z
LAST-MODIFIED:20230420T145110Z
UID:519-1683657000-1683664200@kofc4902.org
SUMMARY:Council Business Meeting
DESCRIPTION:Council business meeting in the Council chambers at St. Bridget’s.  We will gather at 6:30 pm for Rosary or a video before the meeting.   Meeting will start at 7:00 pm with social to follow.
URL:https://kofc4902.org/event/maybusiness/
END:VEVENT
BEGIN:VEVENT
DTSTART;TZID=UTC:20230504T180000
DTEND;TZID=UTC:20230504T190000
DTSTAMP:20260420T153915
CREATED:20230420T144935Z
LAST-MODIFIED:20230420T144935Z
UID:517-1683223200-1683226800@kofc4902.org
SUMMARY:Council Officer Meeting - Zoom
DESCRIPTION:
URL:https://kofc4902.org/event/mayofficer/
END:VEVENT
BEGIN:VEVENT
DTSTART;TZID=UTC:20230503T170000
DTEND;TZID=UTC:20230503T190000
DTSTAMP:20260420T153915
CREATED:20230430T165357Z
LAST-MODIFIED:20230430T165357Z
UID:593-1683133200-1683140400@kofc4902.org
SUMMARY:Roadside Cleanup
DESCRIPTION:Join us for our Annual Roadside Cleanup on May 3\, 2023.   We will meet at the River Falls Town Hall on Highway 65.
URL:https://kofc4902.org/event/roadside-cleanup/
END:VEVENT
BEGIN:VEVENT
DTSTART;TZID=UTC:20230425T190000
DTEND;TZID=UTC:20230425T200000
DTSTAMP:20260420T153915
CREATED:20230419T195346Z
LAST-MODIFIED:20230419T195346Z
UID:480-1682449200-1682452800@kofc4902.org
SUMMARY:Pilgrim Icon
DESCRIPTION:Please join us for a Prayer service to honor St. Joseph\, the patron Saint of fathers.   We will gather at St. Bridget’s Church and have the Pilgrim Icon of St. Joseph\, which was blessed by Pope Francis present on display during the prayer service.
URL:https://kofc4902.org/event/pilgrim-icon/
END:VEVENT
END:VCALENDAR