BEGIN:VCALENDAR
VERSION:2.0
PRODID:-//KC Council 4902 - ECPv6.15.20//NONSGML v1.0//EN
CALSCALE:GREGORIAN
METHOD:PUBLISH
X-WR-CALNAME:KC Council 4902
X-ORIGINAL-URL:https://kofc4902.org
X-WR-CALDESC:Events for KC Council 4902
REFRESH-INTERVAL;VALUE=DURATION:PT1H
X-Robots-Tag:noindex
X-PUBLISHED-TTL:PT1H
BEGIN:VTIMEZONE
TZID:UTC
BEGIN:STANDARD
TZOFFSETFROM:+0000
TZOFFSETTO:+0000
TZNAME:UTC
DTSTART:20230101T000000
END:STANDARD
END:VTIMEZONE
BEGIN:VEVENT
DTSTART;TZID=UTC:20240703T190000
DTEND;TZID=UTC:20240703T200000
DTSTAMP:20260420T154148
CREATED:20240626T122606Z
LAST-MODIFIED:20240701T121551Z
UID:2509-1720033200-1720036800@kofc4902.org
SUMMARY:Council Officers Meeting - Zoom
DESCRIPTION:
URL:https://kofc4902.org/event/council-officers-meeting-zoom-5/
END:VEVENT
BEGIN:VEVENT
DTSTART;TZID=UTC:20240708T190000
DTEND;TZID=UTC:20240708T203000
DTSTAMP:20260420T154148
CREATED:20240626T122735Z
LAST-MODIFIED:20240626T122735Z
UID:2511-1720465200-1720470600@kofc4902.org
SUMMARY:Council Business Meeting
DESCRIPTION:Meeting in Council Chambers\nPreceded at 6:30 by the video “Healing in the Family”
URL:https://kofc4902.org/event/council-business-meeting-3/
END:VEVENT
BEGIN:VEVENT
DTSTART;TZID=UTC:20240710T180000
DTEND;TZID=UTC:20240710T213000
DTSTAMP:20260420T154148
CREATED:20240626T122943Z
LAST-MODIFIED:20240626T122943Z
UID:2513-1720634400-1720647000@kofc4902.org
SUMMARY:Council Family Night Out - RF Fish Baseball
DESCRIPTION:A highlight for the month will be a Council night out for family and friends for a grill out (starting at 6:00) and the RF Fighting Fish baseball game (7:30) at Hoffman Park.
URL:https://kofc4902.org/event/council-family-night-out-rf-fish-baseball/
END:VEVENT
BEGIN:VEVENT
DTSTART;TZID=UTC:20240731T110000
DTEND;TZID=UTC:20240731T130000
DTSTAMP:20260420T154148
CREATED:20240123T140856Z
LAST-MODIFIED:20240626T123029Z
UID:2315-1722423600-1722430800@kofc4902.org
SUMMARY:KC Luncheon - Table on Main
DESCRIPTION:
URL:https://kofc4902.org/event/kc-luncheon-table-on-main-5/
END:VEVENT
END:VCALENDAR