BEGIN:VCALENDAR
VERSION:2.0
PRODID:-//KC Council 4902 - ECPv6.15.20//NONSGML v1.0//EN
CALSCALE:GREGORIAN
METHOD:PUBLISH
X-WR-CALNAME:KC Council 4902
X-ORIGINAL-URL:https://kofc4902.org
X-WR-CALDESC:Events for KC Council 4902
REFRESH-INTERVAL;VALUE=DURATION:PT1H
X-Robots-Tag:noindex
X-PUBLISHED-TTL:PT1H
BEGIN:VTIMEZONE
TZID:UTC
BEGIN:STANDARD
TZOFFSETFROM:+0000
TZOFFSETTO:+0000
TZNAME:UTC
DTSTART:20230101T000000
END:STANDARD
END:VTIMEZONE
BEGIN:VEVENT
DTSTART;TZID=UTC:20241102T163000
DTEND;TZID=UTC:20241103T120000
DTSTAMP:20260420T143614
CREATED:20240911T123055Z
LAST-MODIFIED:20240911T123055Z
UID:2784-1730565000-1730635200@kofc4902.org
SUMMARY:KC Food Drive - RF Food Pantry - Distribute bags
DESCRIPTION:
URL:https://kofc4902.org/event/kc-food-drive-rf-food-pantry-distribute-bags/
END:VEVENT
BEGIN:VEVENT
DTSTART;TZID=UTC:20241107T190000
DTEND;TZID=UTC:20241107T200000
DTSTAMP:20260420T143614
CREATED:20240710T010915Z
LAST-MODIFIED:20240710T010915Z
UID:2588-1731006000-1731009600@kofc4902.org
SUMMARY:Council Officers Meeting - Zoom
DESCRIPTION:
URL:https://kofc4902.org/event/council-officers-meeting-zoom-7/
END:VEVENT
BEGIN:VEVENT
DTSTART;TZID=UTC:20241109T163000
DTEND;TZID=UTC:20241110T120000
DTSTAMP:20260420T143614
CREATED:20240911T123243Z
LAST-MODIFIED:20240911T123243Z
UID:2786-1731169800-1731240000@kofc4902.org
SUMMARY:KC Food Drive - RF Food Pantry - Collect Food
DESCRIPTION:
URL:https://kofc4902.org/event/kc-food-drive-rf-food-pantry-collect-food/
END:VEVENT
BEGIN:VEVENT
DTSTART;TZID=UTC:20241110T053000
DTEND;TZID=UTC:20241110T090000
DTSTAMP:20260420T143614
CREATED:20241013T132338Z
LAST-MODIFIED:20241013T132338Z
UID:2830-1731216600-1731229200@kofc4902.org
SUMMARY:KC Donut Sunday
DESCRIPTION:Donut preparation from 5:30 am – 7:00 am.   Frost donuts from 7:00 am – 9:00 am. \nSellers and packagers needed after the 9:30 am and 11:00 am Masses.
URL:https://kofc4902.org/event/kc-donut-sunday/
END:VEVENT
BEGIN:VEVENT
DTSTART;TZID=UTC:20241111T190000
DTEND;TZID=UTC:20241111T203000
DTSTAMP:20260420T143614
CREATED:20240710T011042Z
LAST-MODIFIED:20241015T124849Z
UID:2590-1731351600-1731357000@kofc4902.org
SUMMARY:Council Business Meeting
DESCRIPTION:Preceded by Rosary in Council Chambers at 6:30 pm
URL:https://kofc4902.org/event/council-business-meeting-6/
END:VEVENT
BEGIN:VEVENT
DTSTART;TZID=UTC:20241116T163000
DTEND;TZID=UTC:20241117T120000
DTSTAMP:20260420T143614
CREATED:20240911T123348Z
LAST-MODIFIED:20240911T123348Z
UID:2788-1731774600-1731844800@kofc4902.org
SUMMARY:KC Food Drive - RF Food Pantry - Collect Food
DESCRIPTION:
URL:https://kofc4902.org/event/kc-food-drive-rf-food-pantry-collect-food-2/
END:VEVENT
BEGIN:VEVENT
DTSTART;VALUE=DATE:20241128
DTEND;VALUE=DATE:20241129
DTSTAMP:20260420T143614
CREATED:20240802T122114Z
LAST-MODIFIED:20240802T122925Z
UID:2648-1732752000-1732838399@kofc4902.org
SUMMARY:Thanksgiving
DESCRIPTION:
URL:https://kofc4902.org/event/thanksgiving/
END:VEVENT
END:VCALENDAR