BEGIN:VCALENDAR
VERSION:2.0
PRODID:-//KC Council 4902 - ECPv6.15.20//NONSGML v1.0//EN
CALSCALE:GREGORIAN
METHOD:PUBLISH
X-WR-CALNAME:KC Council 4902
X-ORIGINAL-URL:https://kofc4902.org
X-WR-CALDESC:Events for KC Council 4902
REFRESH-INTERVAL;VALUE=DURATION:PT1H
X-Robots-Tag:noindex
X-PUBLISHED-TTL:PT1H
BEGIN:VTIMEZONE
TZID:UTC
BEGIN:STANDARD
TZOFFSETFROM:+0000
TZOFFSETTO:+0000
TZNAME:UTC
DTSTART:20240101T000000
END:STANDARD
END:VTIMEZONE
BEGIN:VEVENT
DTSTART;TZID=UTC:20251101T173000
DTEND;TZID=UTC:20251101T180000
DTSTAMP:20260421T084238
CREATED:20251008T191846Z
LAST-MODIFIED:20251008T191846Z
UID:3517-1762018200-1762020000@kofc4902.org
SUMMARY:Food for Families - KC Food Drive
DESCRIPTION:Hand out bags Nov. 1 & 2 after Masses
URL:https://kofc4902.org/event/food-for-families-kc-food-drive/
END:VEVENT
BEGIN:VEVENT
DTSTART;TZID=UTC:20251102T100000
DTEND;TZID=UTC:20251102T123000
DTSTAMP:20260421T084238
CREATED:20251008T191939Z
LAST-MODIFIED:20251008T191939Z
UID:3519-1762077600-1762086600@kofc4902.org
SUMMARY:Food for Families - KC Food Drive
DESCRIPTION:Hand out bags after the 9:00 and 11:00 am Masses.
URL:https://kofc4902.org/event/food-for-families-kc-food-drive-2/
END:VEVENT
BEGIN:VEVENT
DTSTART;TZID=UTC:20251106T190000
DTEND;TZID=UTC:20251106T200000
DTSTAMP:20260421T084238
CREATED:20250403T135816Z
LAST-MODIFIED:20250403T135816Z
UID:3206-1762455600-1762459200@kofc4902.org
SUMMARY:Council Officers Meeting - Zoom
DESCRIPTION:
URL:https://kofc4902.org/event/council-officers-meeting-zoom-16/
END:VEVENT
BEGIN:VEVENT
DTSTART;TZID=UTC:20251108T160000
DTEND;TZID=UTC:20251108T170000
DTSTAMP:20260421T084238
CREATED:20251008T192040Z
LAST-MODIFIED:20251008T192040Z
UID:3521-1762617600-1762621200@kofc4902.org
SUMMARY:Food for Families - KC Food Drive
DESCRIPTION:Collect food donations before 4:30 pm Mass.
URL:https://kofc4902.org/event/food-for-families-kc-food-drive-3/
END:VEVENT
BEGIN:VEVENT
DTSTART;TZID=UTC:20251109T083000
DTEND;TZID=UTC:20251109T113000
DTSTAMP:20260421T084238
CREATED:20251008T192145Z
LAST-MODIFIED:20251008T192514Z
UID:3523-1762677000-1762687800@kofc4902.org
SUMMARY:Food for Families - KC Food Drive
DESCRIPTION:Collect food donations before the 9:00 and 11:00 am Masses
URL:https://kofc4902.org/event/food-for-families-kc-food-drive-4/
END:VEVENT
BEGIN:VEVENT
DTSTART;TZID=UTC:20251110T190000
DTEND;TZID=UTC:20251110T203000
DTSTAMP:20260421T084238
CREATED:20250403T140432Z
LAST-MODIFIED:20250403T140432Z
UID:3218-1762801200-1762806600@kofc4902.org
SUMMARY:Council Business Meeting
DESCRIPTION:Preceded by Rosary at 6:30 pm in Council Chambers.
URL:https://kofc4902.org/event/council-business-meeting-18/
END:VEVENT
BEGIN:VEVENT
DTSTART;TZID=UTC:20251115T160000
DTEND;TZID=UTC:20251115T170000
DTSTAMP:20260421T084238
CREATED:20251008T192231Z
LAST-MODIFIED:20251008T192231Z
UID:3525-1763222400-1763226000@kofc4902.org
SUMMARY:Food for Families - KC Food Drive
DESCRIPTION:Collect food donations before the 4:30 pm Mass
URL:https://kofc4902.org/event/food-for-families-kc-food-drive-5/
END:VEVENT
BEGIN:VEVENT
DTSTART;TZID=UTC:20251116T083000
DTEND;TZID=UTC:20251116T113000
DTSTAMP:20260421T084238
CREATED:20251008T192420Z
LAST-MODIFIED:20251008T192420Z
UID:3527-1763281800-1763292600@kofc4902.org
SUMMARY:Food for Families - KC Food Drive
DESCRIPTION:Collect food donations before the 9:00 and 11:00 am Masses
URL:https://kofc4902.org/event/food-for-families-kc-food-drive-6/
END:VEVENT
BEGIN:VEVENT
DTSTART;TZID=UTC:20251118T160000
DTEND;TZID=UTC:20251118T170000
DTSTAMP:20260421T084238
CREATED:20251008T190735Z
LAST-MODIFIED:20251028T193649Z
UID:3514-1763481600-1763485200@kofc4902.org
SUMMARY:Pilgrim Icon - Sacred Heart of Jesus
DESCRIPTION:Join us for a prayer service to the Sacred Heart of Jesus prior to the 5:00 pm Mass.
URL:https://kofc4902.org/event/pilgrim-icon-sacred-heart-of-jesus/
END:VEVENT
BEGIN:VEVENT
DTSTART;TZID=UTC:20251130T093000
DTEND;TZID=UTC:20251130T103000
DTSTAMP:20260421T084238
CREATED:20241116T172502Z
LAST-MODIFIED:20241116T172502Z
UID:2946-1764495000-1764498600@kofc4902.org
SUMMARY:Corporate Communion Sunday
DESCRIPTION:
URL:https://kofc4902.org/event/corporate-communion-sunday-4/
END:VEVENT
END:VCALENDAR